BEGIN:VCALENDAR
VERSION:2.0
PRODID:-//MitStadtZentrale - Netzwerk- und Beratungsstelle für gemeinschaftliche Wohnprojekte-Plus - ECPv6.15.20//NONSGML v1.0//EN
CALSCALE:GREGORIAN
METHOD:PUBLISH
X-WR-CALNAME:MitStadtZentrale - Netzwerk- und Beratungsstelle für gemeinschaftliche Wohnprojekte-Plus
X-ORIGINAL-URL:https://mitstadtzentrale.de
X-WR-CALDESC:Veranstaltungen für MitStadtZentrale - Netzwerk- und Beratungsstelle für gemeinschaftliche Wohnprojekte-Plus
REFRESH-INTERVAL;VALUE=DURATION:PT1H
X-Robots-Tag:noindex
X-PUBLISHED-TTL:PT1H
BEGIN:VTIMEZONE
TZID:Europe/Berlin
BEGIN:DAYLIGHT
TZOFFSETFROM:+0100
TZOFFSETTO:+0200
TZNAME:CEST
DTSTART:20250330T010000
END:DAYLIGHT
BEGIN:STANDARD
TZOFFSETFROM:+0200
TZOFFSETTO:+0100
TZNAME:CET
DTSTART:20251026T010000
END:STANDARD
BEGIN:DAYLIGHT
TZOFFSETFROM:+0100
TZOFFSETTO:+0200
TZNAME:CEST
DTSTART:20260329T010000
END:DAYLIGHT
BEGIN:STANDARD
TZOFFSETFROM:+0200
TZOFFSETTO:+0100
TZNAME:CET
DTSTART:20261025T010000
END:STANDARD
BEGIN:DAYLIGHT
TZOFFSETFROM:+0100
TZOFFSETTO:+0200
TZNAME:CEST
DTSTART:20270328T010000
END:DAYLIGHT
BEGIN:STANDARD
TZOFFSETFROM:+0200
TZOFFSETTO:+0100
TZNAME:CET
DTSTART:20271031T010000
END:STANDARD
END:VTIMEZONE
BEGIN:VEVENT
DTSTART;TZID=Europe/Berlin:20260420T190000
DTEND;TZID=Europe/Berlin:20260420T203000
DTSTAMP:20260420T014720
CREATED:20260331T171336Z
LAST-MODIFIED:20260331T171336Z
UID:10000330-1776711600-1776717000@mitstadtzentrale.de
SUMMARY:BeginenSalon im KulturKubus: FRAUEN.BAUEN
DESCRIPTION:BeginenSalon: FRAUEN.BAUEN\nzu Gast im hdak – Haus der Architektur Köln\nDie feministische Gesprächsreihe BeginenSalon widmet sich seit vielen Jahren den Perspektiven von Frauen* in Stadtplanung\, Stadtentwicklung\, Architektur und gemeinschaftlichen Wohnformen. An diesem Abend richten wir den Blick darauf\, wie sich Stadtplanung aus weiblicher Perspektive in Theorie und Praxis darstellt – und welche Weichen für eine gleichberechtigte städtebauliche Zukunft gestellt werden müssen. \nDie sich zuspitzende Wohnungskrise und die derzeitigen Stadtentwicklungen betrifft Menschen sehr unterschiedlich. Frauen* sind aufgrund ungleicher Einkommens- und Vermögensverhältnisse besonders häufig von Ausschluss und Diskriminierung auf dem Wohnungsmarkt und in der Stadtplanung betroffen. Gleichzeitig entstehen in Deutschland zunehmend feministische Gegenentwürfe\, die strukturellen Ursachen sichtbar machen und alternative Wege aufzeigen. Im Mittelpunkt des Abends steht die Frage\, wie die Bedürfnisse und Lebensrealitäten von Frauen* in Planung\, Gestaltung und politischer Entscheidungsfindung berücksichtigt werden und welche Rolle Gestalterinnen\, Architektinnen\, Stadtplanerinnen und Politikerinnen dabei spielen: \n\nWie sieht eine frauen*-gerechte Stadtplanung und Architektur aus?\nIst Gender Planning eine unverzichtbare Grundlage für zukünftige Stadtentwicklungen?\nWelche Auswirkungen hat die aktuelle Stadtentwicklung auf Wohnungsbau und die Beteiligung von Frauen* in Planungsprozessen?\nWie können Wohn- und Lebensräume gestaltet werden\, die den Bedürfnissen von Frauen* entsprechen?\nIn welchem Umfang fließen diese Bedürfnisse in die aktuelle Gender-Planning-Debatte ein?\nWelche Konzepte existieren bereits – oder lassen sich weiterentwickeln\, um traditionelle Wohnmodelle wie das Einfamilienhaus angesichts veränderter Familienstrukturen neu zu denken?\nWelche Chancen eröffnen gemeinschaftliche (Frauen*-) Wohnprojekte für neue Formen des Wohnens und Lebens?\nWo und wie zeigt sich heute feministisches Wohnen und Bauen?\n\nAuf dem Podium begrüßen wir: \nSabine Pakulat\, Diplom-Designerin und seit 2014 (GRÜNE) Stadträtin mit Schwerpunkt \nStadtentwicklung aktiv. Vorsitzende des Liegenschaftsausschusses\, Mitglied in mehreren Aufsichtsräten von Wohnungsbaugesellschaften. Engagiert sich für sozialen Wohnungsbau und die Förderung gemeinschaftlicher Wohnprojekte. \nGeske Houwtrouw\, Architektin. Seit zwei Jahrzehnten Mitglied der Architektinnen Initiative\, langjährige Geschäftsführerin\, seit 2026 Vorstandsmitglied. Mitarbeit im Architekturforum plan und beim Design-Festival Passagen. Setzt sich für Chancengleichheit in der Architektur ein. \nEine Veranstaltung des BeginenSalon in Kooperation mit der Architektinnen Initiative. Gefördert von Baukultur Nordrhein-Westfalen. \nDer KulturKubus ist ein Projekt des hdak – Haus der Architektur Köln \nMontag\, 20. April 2026\, 19:00 Uhr | Kubus\, Josef-Haubrich-Hof\, 50676 Köln | BeginenSalon in Kooperation mit der Architektinnen Initiative. Gefördert von Baukultur Nordrhein-Westfalen\, Kulturkubus Haus der Architektur Köln e.V. | Eintritt frei\, keine Anmeldung erforderlich \n> weitere Informationen
URL:https://mitstadtzentrale.de/kalender/beginensalon-im-kulturkubus-frauen-bauen
LOCATION:Kubus des hdak\, Josef-Haubrich-Hof 1\, Köln\, 50667
CATEGORIES:Info-Veranstaltung,öffentlich hdak,Vortrag und Gespräch
END:VEVENT
END:VCALENDAR