BEGIN:VCALENDAR
VERSION:2.0
PRODID:-//MitStadtZentrale - Netzwerk- und Beratungsstelle für gemeinschaftliche Wohnprojekte-Plus - ECPv6.15.20//NONSGML v1.0//EN
CALSCALE:GREGORIAN
METHOD:PUBLISH
X-ORIGINAL-URL:https://mitstadtzentrale.de
X-WR-CALDESC:Veranstaltungen für MitStadtZentrale - Netzwerk- und Beratungsstelle für gemeinschaftliche Wohnprojekte-Plus
REFRESH-INTERVAL;VALUE=DURATION:PT1H
X-Robots-Tag:noindex
X-PUBLISHED-TTL:PT1H
BEGIN:VTIMEZONE
TZID:Europe/Berlin
BEGIN:DAYLIGHT
TZOFFSETFROM:+0100
TZOFFSETTO:+0200
TZNAME:CEST
DTSTART:20250330T010000
END:DAYLIGHT
BEGIN:STANDARD
TZOFFSETFROM:+0200
TZOFFSETTO:+0100
TZNAME:CET
DTSTART:20251026T010000
END:STANDARD
BEGIN:DAYLIGHT
TZOFFSETFROM:+0100
TZOFFSETTO:+0200
TZNAME:CEST
DTSTART:20260329T010000
END:DAYLIGHT
BEGIN:STANDARD
TZOFFSETFROM:+0200
TZOFFSETTO:+0100
TZNAME:CET
DTSTART:20261025T010000
END:STANDARD
BEGIN:DAYLIGHT
TZOFFSETFROM:+0100
TZOFFSETTO:+0200
TZNAME:CEST
DTSTART:20270328T010000
END:DAYLIGHT
BEGIN:STANDARD
TZOFFSETFROM:+0200
TZOFFSETTO:+0100
TZNAME:CET
DTSTART:20271031T010000
END:STANDARD
END:VTIMEZONE
BEGIN:VEVENT
DTSTART;TZID=Europe/Berlin:20260507T190000
DTEND;TZID=Europe/Berlin:20260507T210000
DTSTAMP:20260422T111254
CREATED:20260401T090131Z
LAST-MODIFIED:20260401T090131Z
UID:10000334-1778180400-1778187600@mitstadtzentrale.de
SUMMARY:online - Salongespräch „Im Wohnprojekt gemeinsam älter werden“
DESCRIPTION:Salongespräch #2 „Im Wohnprojekt gemeinsam älter werden“\n\n\n\n\n\n\n\n\nInformation und Diskussion\n\n\n\n\nKolokation im Sonnwendviertel\, 1100 Wien\, Maria Lassnig Straße 2\, und im Stream\n\n\n\n\nDonnerstag\, 7. Mai 2026 – 19:00 bis 21:00\n\n\n\nVeranstalter:in:\n\nInitiative Gemeinsam Bauen & Wohnen\n\n\n\n\n\nGäste: Ursula Wagner (WOAL) und Freya Brandl (Kolokation) \nPionierinnen neuer Lösungen im Gespräch \nNeue Konzepte des Zusammenlebens: Warum zieht es ältere Menschen in Wohnprojekte? Worin besteht der gesellschaftliche Nutzen? Was haben die Bewohner*innen davon? Was braucht es? Was fordert heraus? Wie gelingt es? Freuden und Krisen. \nModeration: Johanna Leutgöb (IniGBW) \nIm Format eines Doppelinterviews vor Publikum wird den Gästen Gelegenheit gegeben\, ihre Erfahrungen und ihre Expertise ausführlich darzulegen \nAnmeldung über diesen Link
URL:https://mitstadtzentrale.de/kalender/online-salongespraech-im-wohnprojekt-gemeinsam-aelter-werden
LOCATION:online
CATEGORIES:Info-Veranstaltung,öffentlich extern - gemeinnützig,online,Webinar
END:VEVENT
END:VCALENDAR