BEGIN:VCALENDAR
VERSION:2.0
PRODID:-//MitStadtZentrale - Netzwerk- und Beratungsstelle für gemeinschaftliche Wohnprojekte-Plus - ECPv6.15.20//NONSGML v1.0//EN
CALSCALE:GREGORIAN
METHOD:PUBLISH
X-WR-CALNAME:MitStadtZentrale - Netzwerk- und Beratungsstelle für gemeinschaftliche Wohnprojekte-Plus
X-ORIGINAL-URL:https://mitstadtzentrale.de
X-WR-CALDESC:Veranstaltungen für MitStadtZentrale - Netzwerk- und Beratungsstelle für gemeinschaftliche Wohnprojekte-Plus
REFRESH-INTERVAL;VALUE=DURATION:PT1H
X-Robots-Tag:noindex
X-PUBLISHED-TTL:PT1H
BEGIN:VTIMEZONE
TZID:Europe/Berlin
BEGIN:DAYLIGHT
TZOFFSETFROM:+0100
TZOFFSETTO:+0200
TZNAME:CEST
DTSTART:20250330T010000
END:DAYLIGHT
BEGIN:STANDARD
TZOFFSETFROM:+0200
TZOFFSETTO:+0100
TZNAME:CET
DTSTART:20251026T010000
END:STANDARD
BEGIN:DAYLIGHT
TZOFFSETFROM:+0100
TZOFFSETTO:+0200
TZNAME:CEST
DTSTART:20260329T010000
END:DAYLIGHT
BEGIN:STANDARD
TZOFFSETFROM:+0200
TZOFFSETTO:+0100
TZNAME:CET
DTSTART:20261025T010000
END:STANDARD
BEGIN:DAYLIGHT
TZOFFSETFROM:+0100
TZOFFSETTO:+0200
TZNAME:CEST
DTSTART:20270328T010000
END:DAYLIGHT
BEGIN:STANDARD
TZOFFSETFROM:+0200
TZOFFSETTO:+0100
TZNAME:CET
DTSTART:20271031T010000
END:STANDARD
END:VTIMEZONE
BEGIN:VEVENT
DTSTART;TZID=Europe/Berlin:20260421T190000
DTEND;TZID=Europe/Berlin:20260421T213000
DTSTAMP:20260420T200837
CREATED:20260401T085231Z
LAST-MODIFIED:20260401T085231Z
UID:10000335-1776798000-1776807000@mitstadtzentrale.de
SUMMARY:online - Salongespräch mit Ute Fragner und Heinz Feldmann Wien
DESCRIPTION:Salongespräch #1: Wohnprojektpioniere erzählen\n\n\n\n\n\n\n\n\nInformation und Diskussion\n\n\n\n\nWohnprojekt Wien\, Krakauer Straße 19\, 1020 Wien\n\n\n\n\nDienstag\, 21. April 2026 – 19:00 bis 20:30\n\n\n\nVeranstalter:in:\n\nInitiative gemeinsam bauen und wohnen\n\n\n\n\n\nGäste: Ute Fragner (Sargfabrik) und Heinz Feldmann (Wohnprojekt Wien)\nModeration: Barbara Nothegger (Autorin\, „Sieben Stock Dorf“) \nSalongespräche sind ein neues Format\,  bei dem interessante Gesprächspartner:innen tiefe Einblick in spezielle Aspekte des gemeinschaftlichen Lebens geben. \nDiesmal: Pionier bzw. Pionierin aus Wohnprojekten\, die zu ihrer Zeit weit über Wien hinaus als Leuchttürme für gemenschaftliches Leben gestrahlt haben (und strahlen).\nErfahrung trifft Expertise. Im intimen Rahmen des Salon am Park werden wir Antworten zu Fragen hören wie: Wie wird man Pionierin eines Wohnprojektes? Was braucht es? Was fordert heraus? Wie gelingt es? Freuden und Krisen. \nTeilnahme vor Ort im “Salon am Park” oder im Stream \nDie Anmeldung ist hier möglich.
URL:https://mitstadtzentrale.de/kalender/online-salongespraech-mit-ute-fragner-und-heinz-feldmann-wien
LOCATION:online
CATEGORIES:Info-Veranstaltung,öffentlich extern - gemeinnützig,online,Webinar
END:VEVENT
END:VCALENDAR