BEGIN:VCALENDAR
VERSION:2.0
PRODID:-//MitStadtZentrale - Netzwerk- und Beratungsstelle für gemeinschaftliche Wohnprojekte-Plus - ECPv6.15.20//NONSGML v1.0//EN
CALSCALE:GREGORIAN
METHOD:PUBLISH
X-WR-CALNAME:MitStadtZentrale - Netzwerk- und Beratungsstelle für gemeinschaftliche Wohnprojekte-Plus
X-ORIGINAL-URL:https://mitstadtzentrale.de
X-WR-CALDESC:Veranstaltungen für MitStadtZentrale - Netzwerk- und Beratungsstelle für gemeinschaftliche Wohnprojekte-Plus
REFRESH-INTERVAL;VALUE=DURATION:PT1H
X-Robots-Tag:noindex
X-PUBLISHED-TTL:PT1H
BEGIN:VTIMEZONE
TZID:Europe/Berlin
BEGIN:DAYLIGHT
TZOFFSETFROM:+0100
TZOFFSETTO:+0200
TZNAME:CEST
DTSTART:20240331T010000
END:DAYLIGHT
BEGIN:STANDARD
TZOFFSETFROM:+0200
TZOFFSETTO:+0100
TZNAME:CET
DTSTART:20241027T010000
END:STANDARD
BEGIN:DAYLIGHT
TZOFFSETFROM:+0100
TZOFFSETTO:+0200
TZNAME:CEST
DTSTART:20250330T010000
END:DAYLIGHT
BEGIN:STANDARD
TZOFFSETFROM:+0200
TZOFFSETTO:+0100
TZNAME:CET
DTSTART:20251026T010000
END:STANDARD
BEGIN:DAYLIGHT
TZOFFSETFROM:+0100
TZOFFSETTO:+0200
TZNAME:CEST
DTSTART:20260329T010000
END:DAYLIGHT
BEGIN:STANDARD
TZOFFSETFROM:+0200
TZOFFSETTO:+0100
TZNAME:CET
DTSTART:20261025T010000
END:STANDARD
END:VTIMEZONE
BEGIN:VEVENT
DTSTART;VALUE=DATE:20250902
DTEND;VALUE=DATE:20250916
DTSTAMP:20260422T194037
CREATED:20250819T124310Z
LAST-MODIFIED:20250819T124310Z
UID:10000253-1756782000-1757905199@mitstadtzentrale.de
SUMMARY:Ausstellungen zu Umnutzung von Kirchengebäuden in Friedberg
DESCRIPTION:Bistum Mainz | 02.09.2025 – 14.09.2025 | 19:30 – 15:30 Uhr\nKirche im Wandel – (sakrale) Räume anders gestalten (Friedberg) \nIn den 46 Pfarreien/Pastoralräumen der vier Regionen im Bistum Mainz: Mainlinie\, Oberhessen\, Südhessen und Rheinhessen denken Themengruppen und Verantwortliche über die zukünftige Nutzung kirchlicher Räume und Gebäude nach. Unter dem Titel „Kirche im Wandel – (sakrale) Räume anders gestalten“ findet ab September 2025 eine interaktive Dreifachausstellung im Bistum Mainz an drei Standorten (Seeheim-Jugenheim\, Friedberg und in Rheinhessen) statt\, die Impulse zur zukünftigen Nutzung kirchlicher Räume und Gebäude setzt. \nGezeigt werden die Ausstellungen „Kirche – Raum – Gegenwart“ der Deutschen Gesellschaft für christliche Kunst\, „Land und Leute – Die Kirche in unserem Dorf“ der Wüstenrot Stiftung und „Heilige Räume – Neue Konzepte“ des Netzwerks Frankfurt für gemeinschaftliches Wohnen e.V. \nEin Begleitprogramm mit Vorträgen und kreativen museumspädagogischen Aktionen lädt alle Interessierten ein\, in den Austausch zu gehen\, um das Thema der Um- und Nachnutzung kirchlicher Räume und Gebäude aus verschiedenen Perspektiven in den Blick zu nehmen. Dazu zählen innovative Wohnprojekte\, sozialpastorale Aspekte\, politische und ökumenische Perspektiven sowie baufachliche Fragestellungen. Die Veranstaltung will eine Plattform für den Austausch und die Entwicklung neuer Ideen zur Gestaltung kirchlicher Räume und Gebäude bieten und den Dialog zwischen den gesellschaftlichen Akteuren fördern. \nIn der Region Oberhessen startet das Projekt mit der Vernissage am 2. September um 19:30 Uhr in der Heilig Geist Kirche in Friedberg. Die Finissage wird dann am 14. September um 15:00 Uhr sein.
URL:https://mitstadtzentrale.de/kalender/ausstellungen-zu-umnutzung-von-kirchengebaeuden-in-friedberg
LOCATION:Friedberg: Heilig Geist Kirche\, Leonhardstraße 24\, Friedberg (Hessen)\, 61169
CATEGORIES:Ausstellung,öffentlich extern - gemeinnützig
ATTACH;FMTTYPE=image/webp:https://mitstadtzentrale.de/wp-content/uploads/2025/08/Logoentwurf00023.png.webp
END:VEVENT
BEGIN:VEVENT
DTSTART;TZID=Europe/Berlin:20250913T160000
DTEND;TZID=Europe/Berlin:20250913T200000
DTSTAMP:20260422T194037
CREATED:20250819T151716Z
LAST-MODIFIED:20250819T151716Z
UID:10000260-1757779200-1757793600@mitstadtzentrale.de
SUMMARY:Online: Wohnprojekte als Chance für Städte und Workshop Partizipation + Nachhaltigkeit
DESCRIPTION:13.09.2025 Festival der Wohnprojekte Wien Online-Veranstaltungen \nAnmeldung: https://www.inigbw.org/anmeldung-zur-veranstaltung-13092025 \nDie Hauswirtschaft: Workshop für Politik\, Verwaltung und Fachpublikum\n16:00 “Gemeinschaftliche Wohnprojekte als Chance für Städte und Gemeinden” – Constance Weiser\, Johanna Leutgöb\n16:30: Workshop “Partizipation und Nachhaltigkeit im Bau” – Markus Zilker\, Markus Spitzer \nDie Hauswirtschaft: Workshop für Politik\, Verwaltung und Fachpublikum\n18:00 Keynote: Solidarische Ökonomie des Wohnens – Gabu Heindl\nCohousing einst und für die nächste Generation – Zeitzeugen im Gespräch
URL:https://mitstadtzentrale.de/kalender/online-wohnprojekte-als-chance-fuer-staedte-und-workshop-partizipation-nachhaltigkeit
LOCATION:online
CATEGORIES:öffentlich extern - gemeinnützig,online,Workshop
END:VEVENT
BEGIN:VEVENT
DTSTART;TZID=Europe/Berlin:20250920T100000
DTEND;TZID=Europe/Berlin:20250920T160000
DTSTAMP:20260422T194037
CREATED:20250819T120815Z
LAST-MODIFIED:20250819T125459Z
UID:10000251-1758362400-1758384000@mitstadtzentrale.de
SUMMARY:Frankfurt: Infobörse für gemeinschaftliches Wohnen
DESCRIPTION:Sie suchen den Luxus der Gemeinschaft?\nDann kommen Sie zur Infobörse am 20. September 2025!\nAuf der Infobörse stellen sich gemeinschaftliche Wohnprojekte vor\, Fachleute teilen ihr Wissen und es gibt viele Möglichkeiten der Vernetzung. Seien Sie mit dabei\, nutzen Sie das Informationsangebot und lernen Sie unterschiedliche Wohnkonzepte kennen. \nProgramm: \n10-12 Uhr Bühnenprogramm\n“Gemeinschaftlichen Luxus schaffen – Meilensteine gestern\, heute\, morgen” mit dem Amt für Wohnungswesen\, dem Dezernat für Planen und Wohnen und dem Netzwerk Frankfurt für gemeinschaftliches Wohnen \n12-16 Uhr Infostände von Wohninitiativen und -organisationen \n+ Vernetzungsworkshops für Neuinteressierte\n+ Kinderbetreuung
URL:https://mitstadtzentrale.de/kalender/frankfurt-infoboerse-fuer-gemeinschaftliches-wohnen
LOCATION:Planungsdezernat Frankfurt\, Kurt-Schumacher-Str. 10\, Frankfurt am Main
CATEGORIES:Frankfurt,Infotag,öffentlich extern - gemeinnützig
ATTACH;FMTTYPE=image/jpeg:https://mitstadtzentrale.de/wp-content/uploads/2025/08/ffm-Luxus-teilen.jpg
END:VEVENT
BEGIN:VEVENT
DTSTART;TZID=Europe/Berlin:20250921T103000
DTEND;TZID=Europe/Berlin:20250921T173000
DTSTAMP:20260422T194037
CREATED:20250918T105926Z
LAST-MODIFIED:20250918T105926Z
UID:10000273-1758450600-1758475800@mitstadtzentrale.de
SUMMARY:Dortmund - 7. Tag des offenen Wohnprojekts
DESCRIPTION:Anders wohnen\, im Wohnprojekt mit mehr Gemeinschaft\, mehr Inklusion oder mit mehreren Generationen – das wünschen sich immer mehr Menschen. Sie auch? Oder beschäftigen Sie sich mit der Idee? \nDas Amt für Wohnen unterstützt Wohnprojekte in vielerlei Hinsicht. Besonders beliebt ist in Dortmund der Tag des offenen Wohnprojekts\, der in diesem Jahr bereits zum siebten Male stattfindet: \nAm Sonntag\, den 21. September 2025 öffnen verschiedene gemeinschaftliche Wohnprojekte zwischen 10:30 und 17:30 Uhr ihre Türen und laden zu Austausch und Besichtigungen ein.
URL:https://mitstadtzentrale.de/kalender/dortmund-7-tag-des-offenen-wohnprojekts
LOCATION:Verschiedene Veranstaltungsorte Dortmund
CATEGORIES:Infotag,öffentlich extern - gemeinnützig,Tag der offenen Tür
END:VEVENT
BEGIN:VEVENT
DTSTART;TZID=Europe/Berlin:20250927T140000
DTEND;TZID=Europe/Berlin:20250927T170000
DTSTAMP:20260422T194037
CREATED:20250819T133008Z
LAST-MODIFIED:20250819T133008Z
UID:10000255-1758981600-1758992400@mitstadtzentrale.de
SUMMARY:„PrymPark-kompakt“ mit Führung
DESCRIPTION:Der Vortrag „PrymPark-kompakt“ zur Cohousing- und Klimaschutz-Siedlung PrymPark wird direkt vor Ort angeboten. \nSie erhalten in etwa zweieinhalb Stunden Informationen über Hintergründe und den aktuellen Stand des gemeinschaftlichen Siedlungs-Projekts und über die Aktivitäten der bereits aktiven Baugruppen. Integriert ist eine Führung durch die bereits bestehenden Gemeinschaftsräume\, insgesamt schon über 500 Quadratmeter: Werkraum\, Wasch-Café\, Küche mit Essraum\, Bewegungsraum und Gästezimmer. \nWir erbitten von jeder/m Erwachsenen eine Kostenbeitrag von 5 €. \nBitte melden Sie sich auf jeden Fall an: info@prympark.de. \nSie erreichen den PrymPark mit öffentlichen Verkehrsmitteln (Bahn und Bus)\, wenn Sie bei der Haltestelle „Josefskirche“ oder „Römerstraße“ aussteigen. Zu Fuß braucht man/frau etwa 25-30 Minuten vom Bahnhof Düren aus. Eine Wegeskizze schicken wir Ihnen gerne zu\, wenn Sie sich anmelden! \nWenn Sie mit dem PKW anreisen und Ihr Navigationsgerät „Prympark 4“ noch nicht kennt\, geben Sie bitte „Roncallistraße\, Straßenmitte“ ein. Dort finden Sie die Einfahrt zum PrymPark und können auf der Zufahrt an der linken Seite hintereinander parken. \nWir empfehlen übrigens sehr: Kommen Sie schon am Vormittag und besuchen Sie den schönen Dürener Wochenmarkt\, der dreimal wöchentlich angeboten wird. Für einen Mittagsimbiss gibt es in der Innenstadt viele Möglichkeiten.
URL:https://mitstadtzentrale.de/kalender/prympark-kompakt-mit-fuehrung-6
LOCATION:PrymPark 4\, Prympark 4\, Düren\, 52351
CATEGORIES:Austausch,Führung,öffentlich extern - kostenpflichtig
ORGANIZER;CN="PrymPark Quartiergesellschaft":MAILTO:info@prympark.de
END:VEVENT
END:VCALENDAR