BEGIN:VCALENDAR
VERSION:2.0
PRODID:-//MitStadtZentrale - Netzwerk- und Beratungsstelle für gemeinschaftliche Wohnprojekte-Plus - ECPv6.15.20//NONSGML v1.0//EN
CALSCALE:GREGORIAN
METHOD:PUBLISH
X-WR-CALNAME:MitStadtZentrale - Netzwerk- und Beratungsstelle für gemeinschaftliche Wohnprojekte-Plus
X-ORIGINAL-URL:https://mitstadtzentrale.de
X-WR-CALDESC:Veranstaltungen für MitStadtZentrale - Netzwerk- und Beratungsstelle für gemeinschaftliche Wohnprojekte-Plus
REFRESH-INTERVAL;VALUE=DURATION:PT1H
X-Robots-Tag:noindex
X-PUBLISHED-TTL:PT1H
BEGIN:VTIMEZONE
TZID:Europe/Berlin
BEGIN:DAYLIGHT
TZOFFSETFROM:+0100
TZOFFSETTO:+0200
TZNAME:CEST
DTSTART:20220327T010000
END:DAYLIGHT
BEGIN:STANDARD
TZOFFSETFROM:+0200
TZOFFSETTO:+0100
TZNAME:CET
DTSTART:20221030T010000
END:STANDARD
BEGIN:DAYLIGHT
TZOFFSETFROM:+0100
TZOFFSETTO:+0200
TZNAME:CEST
DTSTART:20230326T010000
END:DAYLIGHT
BEGIN:STANDARD
TZOFFSETFROM:+0200
TZOFFSETTO:+0100
TZNAME:CET
DTSTART:20231029T010000
END:STANDARD
BEGIN:DAYLIGHT
TZOFFSETFROM:+0100
TZOFFSETTO:+0200
TZNAME:CEST
DTSTART:20240331T010000
END:DAYLIGHT
BEGIN:STANDARD
TZOFFSETFROM:+0200
TZOFFSETTO:+0100
TZNAME:CET
DTSTART:20241027T010000
END:STANDARD
END:VTIMEZONE
BEGIN:VEVENT
DTSTART;TZID=Europe/Berlin:20230622T190000
DTEND;TZID=Europe/Berlin:20230622T210000
DTSTAMP:20260424T123048
CREATED:20230518T110323Z
LAST-MODIFIED:20230518T110437Z
UID:10000035-1687460400-1687467600@mitstadtzentrale.de
SUMMARY:Salongespräch im Haus der Baukultur: Urbane Räume
DESCRIPTION:Anmeldung beim Haus der Baukultur NRW erforderlich! \n  \nIm Salon eines Hauses voller Bücher sprechen Autoren und Verleger über ihre Werke und über Architektur. 2023 ist die TH Köln zu Gast im inspirierenden Wohnhaus Wolfgang Pehnts\, in dem selbst bedeutende Architekturbücher geschrieben wurden. Das Haus der Baukultur NRW eröffnet gemeinsam mit der Alanus Hochschule das gesellige Gespräch mit einer illustren Reihe von Gästen. \nAm Donnerstag\, 22. Juni\, um 19 Uhr spricht Florian Kluge von der Alanus Hochschule mit Johanne Debik von der Montag Stifung Urbane Räume. \nAufgrund beschränkter Plätze ist die Teilnahme nur mit Anmeldung möglich.
URL:https://mitstadtzentrale.de/kalender/salongespraech-haus-der-baukultur-urbane-raeume
LOCATION:Wolfgang-Pehnt-Studienhaus für Architektur\, Danziger Straße 2a\, Köln-Weiden\, 50858
END:VEVENT
END:VCALENDAR