BEGIN:VCALENDAR
VERSION:2.0
PRODID:-//MitStadtZentrale - Netzwerk- und Beratungsstelle für gemeinschaftliche Wohnprojekte-Plus - ECPv6.15.20//NONSGML v1.0//EN
CALSCALE:GREGORIAN
METHOD:PUBLISH
X-ORIGINAL-URL:https://mitstadtzentrale.de
X-WR-CALDESC:Veranstaltungen für MitStadtZentrale - Netzwerk- und Beratungsstelle für gemeinschaftliche Wohnprojekte-Plus
REFRESH-INTERVAL;VALUE=DURATION:PT1H
X-Robots-Tag:noindex
X-PUBLISHED-TTL:PT1H
BEGIN:VTIMEZONE
TZID:Europe/Berlin
BEGIN:DAYLIGHT
TZOFFSETFROM:+0100
TZOFFSETTO:+0200
TZNAME:CEST
DTSTART:20220327T010000
END:DAYLIGHT
BEGIN:STANDARD
TZOFFSETFROM:+0200
TZOFFSETTO:+0100
TZNAME:CET
DTSTART:20221030T010000
END:STANDARD
BEGIN:DAYLIGHT
TZOFFSETFROM:+0100
TZOFFSETTO:+0200
TZNAME:CEST
DTSTART:20230326T010000
END:DAYLIGHT
BEGIN:STANDARD
TZOFFSETFROM:+0200
TZOFFSETTO:+0100
TZNAME:CET
DTSTART:20231029T010000
END:STANDARD
BEGIN:DAYLIGHT
TZOFFSETFROM:+0100
TZOFFSETTO:+0200
TZNAME:CEST
DTSTART:20240331T010000
END:DAYLIGHT
BEGIN:STANDARD
TZOFFSETFROM:+0200
TZOFFSETTO:+0100
TZNAME:CET
DTSTART:20241027T010000
END:STANDARD
BEGIN:DAYLIGHT
TZOFFSETFROM:+0100
TZOFFSETTO:+0200
TZNAME:CEST
DTSTART:20250330T010000
END:DAYLIGHT
BEGIN:STANDARD
TZOFFSETFROM:+0200
TZOFFSETTO:+0100
TZNAME:CET
DTSTART:20251026T010000
END:STANDARD
BEGIN:DAYLIGHT
TZOFFSETFROM:+0100
TZOFFSETTO:+0200
TZNAME:CEST
DTSTART:20260329T010000
END:DAYLIGHT
BEGIN:STANDARD
TZOFFSETFROM:+0200
TZOFFSETTO:+0100
TZNAME:CET
DTSTART:20261025T010000
END:STANDARD
END:VTIMEZONE
BEGIN:VEVENT
DTSTART;TZID=Europe/Berlin:20250121T170000
DTEND;TZID=Europe/Berlin:20250121T183000
DTSTAMP:20260422T162124
CREATED:20241129T180826Z
LAST-MODIFIED:20241129T180826Z
UID:10000198-1737478800-1737484200@mitstadtzentrale.de
SUMMARY:Erste Erfahrungen mit der neuen GbR / eGbR | online Workshop
DESCRIPTION:Online-Workshop für Mitglieder und Gäste des Bundesverbands Baugemeinschaften \nDienstag\, 21. Januar 2024\, 17:00 – 18:30 Uhr\, per Zoom\nImpulsvortrag von Angelika Majchrzak-Rummel\, Rechtsanwältin und Wohnprojektberaterin AMR \nNachdem Herr Dr. Natan Hogrebe im vergangenen Jahr über die Neuerungen zur eingetragenen Gesellschaft bürgerlichen Rechts (eGbR) in einem Dienstags-Workshop berichtete\, ist es nun an der Zeit\, eine erste Bilanz zu ziehen. \nUnser Mitglied Angelika Majchrzak-Rummel stellt in ihrem Vortrag erste Erfahrungen mit der neuen GbR / eGbR vor. \nIm Anschluss wird im Kreis der Teilnehmenden aus verschiedenen beruflichen Perspektiven über unsere Erfahrungen in diesem Kontext diskutiert. \nBitte melden Sie sich formlos per E-Mail an. Der Link wird Ihnen kurz vor der Veranstaltung zugesandt. \n> E Mail-Adresse: info@bv-baugemeinschaften.de
URL:https://mitstadtzentrale.de/kalender/erste-erfahrungen-mit-der-neuen-gbr-egbr-online-workshop
LOCATION:online
CATEGORIES:öffentlich extern - gemeinnützig,Workshop
ORGANIZER;CN="Bundesverband Baugemeinschaften":MAILTO:info@bv-baugemeinschaften.de
END:VEVENT
BEGIN:VEVENT
DTSTART;TZID=Europe/Berlin:20241210T170000
DTEND;TZID=Europe/Berlin:20241210T183000
DTSTAMP:20260422T162124
CREATED:20241129T180407Z
LAST-MODIFIED:20241129T180407Z
UID:10000197-1733850000-1733855400@mitstadtzentrale.de
SUMMARY:Organisation ungewohnter gemeinschaftsorientierter Wohnprojekte in kleinen Kommunen | online Workshop
DESCRIPTION:Online-Workshop »Organisation ungewohnter gemeinschaftsorientierter Wohnprojekte in kleinen Kommunen – Beispiele aus Mainleus und Tittmoning«\ndes Bundesverbands Baugemeinschaften\nfür Mitglieder und Gäste\nDienstag\, 10. Dezember 2024\, 17:00 – 18:30 Uhr\, per Zoom \nImpulsvortrag von H2R Architekten und Stadtplaner Prof. Hans-Peter Hebensperger-Hüther (Beiratsmitglied BV Baugemeinschaften)\, Sibylle Hüther und Benedikt Weber (Mitglieder BV Baugemeinschaften) \nAn diesem Abend werden zwei vom Büro H2R Architekten in Bayern geplante Projekte zum gemeinschaftlichen Wohnen mit unterschiedlicher Trägerschaft vorgestellt: \n\nWohnen unterm Sheddach in Mainleus\nWerkswohnungen im Baugebiet “Am alten Bahnhof” in Tittmoning\n\nIm Anschluss gibt es für Mitglieder und Gäste wie gewohnt die Möglichkeit\, Fragen zu erörtern und ausreichend Zeit für einen offenen Austausch. \nBitte melden Sie sich formlos per E-Mail an. Der Link wird Ihnen kurz vor der Veranstaltung zugesandt. \n> E Mail-Adresse: info@bv-baugemeinschaften.de
URL:https://mitstadtzentrale.de/kalender/organisation-ungewohnter-gemeinschaftsorientierter-wohnprojekte-in-kleinen-kommunen-online-workshop
LOCATION:online
CATEGORIES:öffentlich extern - gemeinnützig,Workshop
ORGANIZER;CN="Bundesverband Baugemeinschaften":MAILTO:info@bv-baugemeinschaften.de
END:VEVENT
BEGIN:VEVENT
DTSTART;VALUE=DATE:20240927
DTEND;VALUE=DATE:20240930
DTSTAMP:20260422T162124
CREATED:20240611T161612Z
LAST-MODIFIED:20240624T160536Z
UID:10000140-1727406000-1727578799@mitstadtzentrale.de
SUMMARY:Düsseldorf: Fachtagung des Bundesverbandes Baugemeinschaften e.V.: (Neue) Genossenschaften als Instrument für Baugemeinschaften und Quartiersentwicklung
DESCRIPTION:Welche Vorteile haben Genossenschaften für das Gemeinwesen und die Bewohner? Sind genossenschaftsähnliche Rechtsformen eine Alternative? Welche Rolle können Dachgenossenschaften spielen? \nDiesen Themen widmet sich die Fachtagung des Bundesverbandes Baugemeinschaften e.V. in Düsseldorf und nutzt dazu die Erfahrungen von Dachgenossenschaften\, die durch städtische Initiative gegründet wurden\, und von Genossenschaften und genossenschaftsähnlichen Rechtsformen\, die aus zivilgesellschaftlichem Engagement entstanden sind. \nDie Tagung richtet sich an Experten\, die kooperative Projekte begleiten und befördern\, an Vertreter von Kommunen\, die mit gemeinschaftlichem Wohnen einen Impuls für die Stadtentwicklung setzen wollen\, an Hochschulvertreter und Studierende sowie an Initiativen\, die gerade den besten Weg fürs gemeinsame Bauen und Wohnen suchen. \nDie Anmeldung wird in Kürze wird über diese Homepage freigeschaltet:\nhttps://www.bv-baugemeinschaften.de/index.html
URL:https://mitstadtzentrale.de/kalender/duesseldorf-fachtagung-des-bundesverbandes-baugemeinschaften-e-v-neue-genossenschaften-als-instrument-fuer-baugemeinschaften-und-quartiersentwicklung
LOCATION:Rathaus Düsseldorf\, Marktplatz 2\, Düsseldorf\, NRW\, 40213\, Deutschland
CATEGORIES:Fachtagung,öffentlich extern - kostenpflichtig
ORGANIZER;CN="Bundesverband Baugemeinschaften":MAILTO:info@bv-baugemeinschaften.de
END:VEVENT
BEGIN:VEVENT
DTSTART;TZID=Europe/Berlin:20230321T170000
DTEND;TZID=Europe/Berlin:20230321T183000
DTSTAMP:20260422T162124
CREATED:20230318T151018Z
LAST-MODIFIED:20230426T195828Z
UID:10000016-1679418000-1679423400@mitstadtzentrale.de
SUMMARY:Alles dreht sich um die Kreise – Soziokratie in Baugemeinschaften
DESCRIPTION:Online-Workshop für Mitglieder und Gäste \nSoziokratie\, Holacracy\, S3\, new work und andere „agile“ Methoden werden oft als die Lösung aller Probleme beim gemeinschaftlichen Planen und Bauen angepriesen.\nHeinz Feldmann\, Berater für Gemeinschafts-Projekte\, Soziokratiepionier und Mitgründer des Wohnprojekt Wien berichtet über die Vor- und Nachteile der soziokratischen Organisations- und Entscheidungsform für Baugemeinschaften und worauf bei der Einführung in der Praxis zu achten ist. Im Anschluss diskutieren die Teilnehmer*innen das Thema und tauschen ihre Erfahrungen aus. \n\nModeration: Marion Kempe\, Vorstandsvorsitzende des Bundesverbandes Baugemeinschaften e.V.\nOrt: Zoom-Konferenz\, Der Link wird an angemeldete Teilnehmer versandt.\nAnmeldung: per Mail an info@bv-baugemeinschaften.de \n\nOnline-Workshop des BV-Baugemeinschaften für Mitglieder und Gäste: \nWeitere Infos auf der Website des Bundesverbandes: https://www.bv-baugemeinschaften.de/veranstaltungen.html
URL:https://mitstadtzentrale.de/kalender/alles-dreht-sich-um-die-kreise-soziokratie-in-baugemeinschaften
LOCATION:Zoom Konferenz
CATEGORIES:Videokonferenz
ORGANIZER;CN="Bundesverband Baugemeinschaften":MAILTO:info@bv-baugemeinschaften.de
END:VEVENT
END:VCALENDAR