BEGIN:VCALENDAR
VERSION:2.0
PRODID:-//MitStadtZentrale - Netzwerk- und Beratungsstelle für gemeinschaftliche Wohnprojekte-Plus - ECPv6.15.20//NONSGML v1.0//EN
CALSCALE:GREGORIAN
METHOD:PUBLISH
X-ORIGINAL-URL:https://mitstadtzentrale.de
X-WR-CALDESC:Veranstaltungen für MitStadtZentrale - Netzwerk- und Beratungsstelle für gemeinschaftliche Wohnprojekte-Plus
REFRESH-INTERVAL;VALUE=DURATION:PT1H
X-Robots-Tag:noindex
X-PUBLISHED-TTL:PT1H
BEGIN:VTIMEZONE
TZID:Europe/Berlin
BEGIN:DAYLIGHT
TZOFFSETFROM:+0100
TZOFFSETTO:+0200
TZNAME:CEST
DTSTART:20220327T010000
END:DAYLIGHT
BEGIN:STANDARD
TZOFFSETFROM:+0200
TZOFFSETTO:+0100
TZNAME:CET
DTSTART:20221030T010000
END:STANDARD
BEGIN:DAYLIGHT
TZOFFSETFROM:+0100
TZOFFSETTO:+0200
TZNAME:CEST
DTSTART:20230326T010000
END:DAYLIGHT
BEGIN:STANDARD
TZOFFSETFROM:+0200
TZOFFSETTO:+0100
TZNAME:CET
DTSTART:20231029T010000
END:STANDARD
BEGIN:DAYLIGHT
TZOFFSETFROM:+0100
TZOFFSETTO:+0200
TZNAME:CEST
DTSTART:20240331T010000
END:DAYLIGHT
BEGIN:STANDARD
TZOFFSETFROM:+0200
TZOFFSETTO:+0100
TZNAME:CET
DTSTART:20241027T010000
END:STANDARD
END:VTIMEZONE
BEGIN:VEVENT
DTSTART;VALUE=DATE:20230726
DTEND;VALUE=DATE:20230822
DTSTAMP:20260422T142509
CREATED:20230726T142456Z
LAST-MODIFIED:20230726T142456Z
UID:10000064-1690340400-1692586799@mitstadtzentrale.de
SUMMARY:Online Umfrage: Kölner Klimadialog
DESCRIPTION:Bis zum 20. August 2023 findet die Online-Umfrage statt mit den Themenschwerpunkten „Grün & Entsiegelung“\, „Mobilität“\, „städtebauliche Infrastruktur“ und nicht zuletzt zu „Ideen & Impulsen“ hinsichtlich möglicher Engagements für eine klimafreundliche Stadtentwicklung und entsprechender guter Praxisbeispiele und Projektideen. \nKöln will und muss bis 2035 klimaneutral werden. Politik\, Verwaltung und städtische Unternehmen alleine werden das nicht schaffen können. Es braucht auch die aktive Mitwirkung möglichst aller Menschen in Köln. Daher will die Kölner Freiwilligen Agentur e.V.  Ihre Meinung und Ihre Ideen erfahren\, was Sie\, was wir alle gemeinsam für ein klimaneutrales Köln machen können. \nDie Erkenntnisse aus dieser Befragung werden in einem öffentlichen Bericht zusammengefasst und sollen dazu beitragen\, dass sich Köln gemeinsam mit allen hier lebenden Menschen erfolgreich den Herausforderungen des Klimawandels stellen kann. \nAn der Umfrage können Sie unter www.klimadialog.koeln teilnehmen.
URL:https://mitstadtzentrale.de/kalender/online-umfrage-koelner-klimadialog
LOCATION:online
CATEGORIES:öffentlich extern - gemeinnützig
ORGANIZER;CN="K%C3%B6lner Freiwilligen Agentur e.V.":MAILTO:mailto:beteiligen@koeln-freiwillig.de
END:VEVENT
END:VCALENDAR