BEGIN:VCALENDAR
VERSION:2.0
PRODID:-//MitStadtZentrale - Netzwerk- und Beratungsstelle für gemeinschaftliche Wohnprojekte-Plus - ECPv6.15.20//NONSGML v1.0//EN
CALSCALE:GREGORIAN
METHOD:PUBLISH
X-WR-CALNAME:MitStadtZentrale - Netzwerk- und Beratungsstelle für gemeinschaftliche Wohnprojekte-Plus
X-ORIGINAL-URL:https://mitstadtzentrale.de
X-WR-CALDESC:Veranstaltungen für MitStadtZentrale - Netzwerk- und Beratungsstelle für gemeinschaftliche Wohnprojekte-Plus
REFRESH-INTERVAL;VALUE=DURATION:PT1H
X-Robots-Tag:noindex
X-PUBLISHED-TTL:PT1H
BEGIN:VTIMEZONE
TZID:Europe/Berlin
BEGIN:DAYLIGHT
TZOFFSETFROM:+0100
TZOFFSETTO:+0200
TZNAME:CEST
DTSTART:20230326T010000
END:DAYLIGHT
BEGIN:STANDARD
TZOFFSETFROM:+0200
TZOFFSETTO:+0100
TZNAME:CET
DTSTART:20231029T010000
END:STANDARD
BEGIN:DAYLIGHT
TZOFFSETFROM:+0100
TZOFFSETTO:+0200
TZNAME:CEST
DTSTART:20240331T010000
END:DAYLIGHT
BEGIN:STANDARD
TZOFFSETFROM:+0200
TZOFFSETTO:+0100
TZNAME:CET
DTSTART:20241027T010000
END:STANDARD
BEGIN:DAYLIGHT
TZOFFSETFROM:+0100
TZOFFSETTO:+0200
TZNAME:CEST
DTSTART:20250330T010000
END:DAYLIGHT
BEGIN:STANDARD
TZOFFSETFROM:+0200
TZOFFSETTO:+0100
TZNAME:CET
DTSTART:20251026T010000
END:STANDARD
BEGIN:DAYLIGHT
TZOFFSETFROM:+0100
TZOFFSETTO:+0200
TZNAME:CEST
DTSTART:20260329T010000
END:DAYLIGHT
BEGIN:STANDARD
TZOFFSETFROM:+0200
TZOFFSETTO:+0100
TZNAME:CET
DTSTART:20261025T010000
END:STANDARD
END:VTIMEZONE
BEGIN:VEVENT
DTSTART;TZID=Europe/Berlin:20250524T100000
DTEND;TZID=Europe/Berlin:20250524T170000
DTSTAMP:20260423T104551
CREATED:20250211T140745Z
LAST-MODIFIED:20250505T180429Z
UID:10000217-1748080800-1748106000@mitstadtzentrale.de
SUMMARY:4. Aachener Wohnprojektetag 2025
DESCRIPTION:Neue Wohnprojekte für alte Häuser\nBereits zum 4. Mal findet am Samstag\, den 24. Mai 2025\, ab 10.00 Uhr der Aachener Wohnprojektetag im Depot in der Talstraße 2 statt. Unter dem Titel “Neue Wohnprojekte für alte Häuser” rücken immer öfter Bestandsimmobilien in den Fokus. Gemeinsam suchen wir Antworten und Inspiration zur Frage: Wie kann ein gemeinschaftliches Wohnprojekt in einem bestehenden Gebäude entwickelt und umgesetzt werden? \nEs wartet ein bunter Blumenstrauß an Impulsvorträgen\, Diskussionen\, Workshops und einem Markt der Möglichkeiten\, der zum Durchstöbern einlädt. Neben all den Informationen bleibt viel Zeit für den Austausch und die Vernetzung von Interessierten\, Initiativen\, Projektgruppen und Expert*innen rund um das Thema Bauen und Wohnen in Gemeinschaft. \nOffene Wohnprojekte am Nachmittag\nNeben dem Besuch des Depots werden ab 14.30 Uhr auch einige der 12 Aachener Wohnprojekte ihre Türen für Interessierte öffnen. \n14.30 – 15.30 Uhr \n\nJung & Alt\nInklusiv Wohnen\nWohnsinn Aachen\nLebensWeGe Mataréstraße\n\n14.00 – 17.00 Uhr \n\nPatchworkhaus\nFührungen durch die Gemeinschaftsräume finden um 14.30 und um 16.00 statt. Kaffee und Kuchen stehen zur Stärkung bereit!\n\n15.30 – 16.30 Uhr \n\nMiteinander im Wiesental\nInklusiv Wohnen\nWohnsinn Aachen\nZusammenhaus\n\n18.00 Uhr \n\nPrymPark Düren\nOffenes Nachbarschaftsfest und um 18.30 Uhr gibt es eine Führung\n\n  \nAlle weiteren Informationen sowie das Programm sind hier zu finden: https://www.aachen.de/in-aachen-leben/gesellschaft-soziales-wohnen/wohnen/wohnraumentwicklung/bauen-und-wohnen-in-gemeinschaft/wohnprojektetag/ \n 
URL:https://mitstadtzentrale.de/kalender/save-the-date-4-aachener-wohnprojektetag
LOCATION:Aachen\, folgt
CATEGORIES:Austausch,Infotag,öffentlich extern - gemeinnützig
ORGANIZER;CN="Koordinationsstelle Bauen und Wohnen in Gemeinschaft der Stadt Aachen":MAILTO:gemeinsambauen@mail.aachen.de
END:VEVENT
BEGIN:VEVENT
DTSTART;TZID=Europe/Berlin:20240731T173000
DTEND;TZID=Europe/Berlin:20240731T203000
DTSTAMP:20260423T104551
CREATED:20240712T115621Z
LAST-MODIFIED:20240712T120129Z
UID:10000153-1722447000-1722457800@mitstadtzentrale.de
SUMMARY:Workshop: Öffentlichkeitsarbeit für Wohn- und Quartiersprojekte in Aachen
DESCRIPTION:Öffentlichkeitsarbeit? Wozu\, Was\, Wie\, Wofür? Um diesen Fragen auf den Grund zu gehen\, bietet die Koordinationsstelle Bauen und Wohnen in Gemeinschaft der Stadt Aachen einen interaktiven Workshop an\, der von der erfahrenen Wohnprojektmitgründerin Maren Wynands durchgeführt wird. Es wird um den Sinn und Zweck der Öffentlichkeitsarbeit gehen\, die richtigen Kanäle und Formate und die Inhalte\, die Projekte kommunizieren möchten. \nDer Workshop eignet sich sowohl für bestehende Wohngemeinschaften oder Quartiersprojekte\, die ihre Inhalte nach außen tragen möchten\, als auch für Gruppen in Gründung\, die weitere Interessierte finden und auf das Projekt aufmerksam machen möchten. \nDer Workshop ist kostenfrei und findet am 31.07.2024 von 17.30-20.30 Uhr im Gelben Raum der Meffi’s am Büchel in Aachen (Mefferdatisstraße 16-18) statt. \nUm Anmeldung bis zum 19.07.24 unter gemeinsambauen@mail.aachen.de wird gebeten.
URL:https://mitstadtzentrale.de/kalender/workshop-oeffentlichkeitsarbeit-fuer-wohn-und-quartiersprojekte-in-aachen
LOCATION:Meffi’s am Büchel\, Mefferdatisstraße 16-18\, Aachen\, NRW
CATEGORIES:öffentlich extern - gemeinnützig,Workshop
ORGANIZER;CN="Koordinationsstelle Bauen und Wohnen in Gemeinschaft der Stadt Aachen":MAILTO:gemeinsambauen@mail.aachen.de
END:VEVENT
END:VCALENDAR