BEGIN:VCALENDAR
VERSION:2.0
PRODID:-//MitStadtZentrale - Netzwerk- und Beratungsstelle für gemeinschaftliche Wohnprojekte-Plus - ECPv6.15.20//NONSGML v1.0//EN
CALSCALE:GREGORIAN
METHOD:PUBLISH
X-WR-CALNAME:MitStadtZentrale - Netzwerk- und Beratungsstelle für gemeinschaftliche Wohnprojekte-Plus
X-ORIGINAL-URL:https://mitstadtzentrale.de
X-WR-CALDESC:Veranstaltungen für MitStadtZentrale - Netzwerk- und Beratungsstelle für gemeinschaftliche Wohnprojekte-Plus
REFRESH-INTERVAL;VALUE=DURATION:PT1H
X-Robots-Tag:noindex
X-PUBLISHED-TTL:PT1H
BEGIN:VTIMEZONE
TZID:Europe/Berlin
BEGIN:DAYLIGHT
TZOFFSETFROM:+0100
TZOFFSETTO:+0200
TZNAME:CEST
DTSTART:20220327T010000
END:DAYLIGHT
BEGIN:STANDARD
TZOFFSETFROM:+0200
TZOFFSETTO:+0100
TZNAME:CET
DTSTART:20221030T010000
END:STANDARD
BEGIN:DAYLIGHT
TZOFFSETFROM:+0100
TZOFFSETTO:+0200
TZNAME:CEST
DTSTART:20230326T010000
END:DAYLIGHT
BEGIN:STANDARD
TZOFFSETFROM:+0200
TZOFFSETTO:+0100
TZNAME:CET
DTSTART:20231029T010000
END:STANDARD
BEGIN:DAYLIGHT
TZOFFSETFROM:+0100
TZOFFSETTO:+0200
TZNAME:CEST
DTSTART:20240331T010000
END:DAYLIGHT
BEGIN:STANDARD
TZOFFSETFROM:+0200
TZOFFSETTO:+0100
TZNAME:CET
DTSTART:20241027T010000
END:STANDARD
BEGIN:DAYLIGHT
TZOFFSETFROM:+0100
TZOFFSETTO:+0200
TZNAME:CEST
DTSTART:20250330T010000
END:DAYLIGHT
BEGIN:STANDARD
TZOFFSETFROM:+0200
TZOFFSETTO:+0100
TZNAME:CET
DTSTART:20251026T010000
END:STANDARD
END:VTIMEZONE
BEGIN:VEVENT
DTSTART;TZID=Europe/Berlin:20240908T100000
DTEND;TZID=Europe/Berlin:20240908T180000
DTSTAMP:20260422T160759
CREATED:20240703T142805Z
LAST-MODIFIED:20240703T142806Z
UID:10000151-1725789600-1725818400@mitstadtzentrale.de
SUMMARY:Workshop: Denkmalpflege im Petershof - Einblicke in die Restaurierung
DESCRIPTION:Vor Ort werden die bevorstehenden Arbeiten am Petershof sowie allgemeine Tätigkeiten der Restaurierung und Konservierung von Kunst und Kulturgut präsentiert. Ein besonderer Fokus liegt auf der Restaurierung der denkmalgeschützten Fenster des Petershofs. Dabei werden die Vorgehensweisen\, wie die Untersuchung der Konstruktion\, die Materialanalyse sowie die Planung und Umsetzung von Maßnahmen\, detailliert vorgestellt.” \n\n\n\n\n\n\n\n\n\n\n\n\nErgänzend gibt es auf Wunsch noch einen Workshop zum Stuhlgeflecht “Wiener Geflecht” mit Rattan. \n\n\n\n\n\n\n\n\n\n\n\n\nUhrzeit: 10-18 Uhr \nLeitung: Domenika Marks und Moritz Erdmann \nAnmeldung über veranstaltung@petershof.org bis zum 01. September 2024
URL:https://mitstadtzentrale.de/kalender/workshop-denkmalpflege-im-petershof-einblicke-in-die-restaurierung
LOCATION:Petershof\, Lövenicher Weg 11\, 50933 Köln\, Lövenicher Weg 11\, Köln\, 50933\, Deutschland
CATEGORIES:Köln,öffentlich extern - gemeinnützig,Workshop
END:VEVENT
BEGIN:VEVENT
DTSTART;TZID=Europe/Berlin:20240905T200000
DTEND;TZID=Europe/Berlin:20240905T223000
DTSTAMP:20260422T160759
CREATED:20240827T140756Z
LAST-MODIFIED:20240827T140825Z
UID:10000164-1725566400-1725575400@mitstadtzentrale.de
SUMMARY:Wohnraum und Freiräume in Köln | Filmabend: Mietrebellen
DESCRIPTION:Kultursommer 2024 im Petershof: gemeinsam mit anderen Initiativen werden unter anderem vier Veranstaltungen zum Thema Wohnraum und Freiräume in Köln organisiert und Fragen diskutiert: Welche Geschichte hat unser Wohnraum und wie gehen wir damit um? Wie wollen und können wir wohnen? Welche Organisationsformen und Strukturen brauchen wir dafür? Wem gehört die Stadt? \nMIETREBELLEN – Ein Dokumentarfilm von Gertrud Schulte Westenberg und Matthias Coers. \nZu Gast sind an diesem Abend Kalle Gerigk und Mitglieder des Wohnprojekts BG1006. Wir sind gespannt\, mit ihnen und euch über die Situation der Mieter*innenbewegung in Köln zu sprechen. \nBerlin hat sich rasant verändert. Wohnungen\, die lange als unattraktiv galten\, werden von Anleger*innen als sichere Geldanlagen genutzt. Massenhafte Umwandlungen in Eigentumswohnungen und Mietsteigerungen in bisher unbekanntem Ausmaß sind alltäglich. Die sichtbaren Mieter*innenproteste in der schillernden Metropole Berlin sind eine Reaktion auf die zunehmend mangelhafte Versorgung mit bezahlbarem Wohnraum.  \nDer Film ist ein Kaleidoskop der Mieter*innenkämpfe in Berlin gegen die Verdrängung aus den nachbarschaftlichen Lebenszusammenhängen. Eine Besetzung des Berliner Rathauses\, das Camp am Kottbusser Tor\, der organisierte Widerstand gegen Zwangsräumungen und der Kampf von Rentner*innen um ihre altersgerechten Wohnungen und eine Freizeitstätte symbolisieren den neuen Aufbruch der urbanen Protestbewegung.
URL:https://mitstadtzentrale.de/kalender/wohnraum-und-freiraeume-in-koeln-filmabend-mietrebellen
LOCATION:Petershof\, Lövenicher Weg 11\, 50933 Köln\, Lövenicher Weg 11\, Köln\, 50933\, Deutschland
CATEGORIES:Filmabend,Köln,öffentlich extern - auf Spendenbasis
END:VEVENT
BEGIN:VEVENT
DTSTART;TZID=Europe/Berlin:20240829T200000
DTEND;TZID=Europe/Berlin:20240829T223000
DTSTAMP:20260422T160759
CREATED:20240827T140224Z
LAST-MODIFIED:20240827T140224Z
UID:10000163-1724961600-1724970600@mitstadtzentrale.de
SUMMARY:Wohnraum und Freiräume in Köln | Filmabend: Das Gegenteil von Grau
DESCRIPTION:Kultursommer 2024 im Petershof: gemeinsam mit anderen Initiativen werden unter anderem vier Veranstaltungen zum Thema Wohnraum und Freiräume in Köln organisiert und Fragen diskutiert: Welche Geschichte hat unser Wohnraum und wie gehen wir damit um? Wie wollen und können wir wohnen? Welche Organisationsformen und Strukturen brauchen wir dafür? Wem gehört die Stadt? \nDas Gegenteil von Grau zeigt unterschiedliche Gruppen\, die praktische Utopien und Freiräume leben und für ein solidarisches und ökologisches Miteinander im urbanen Raum kämpfen. \nEin Dokumentarfilm von Matthias Coers und Recht auf Stadt Ruhr. \nDer Filmemacher ist eingeladen zusammen mit Jan Pehoviak vom Wandelwerk/KLuG eV um mit euch über Leerstand\, Freiräume\, ungenutzte Möglichkeiten und Notwendigkeiten in Köln sprechen. \nKurzinhalt zum Film: Brachflächen\, Leerstand\, Anonymität\, Stillstand – nicht alle zwischen Dortmund und Duisburg wollen sich damit abfinden. Im Gegenteil. Immer mehr Menschen entdecken Möglichkeiten und greifen in den städtischen Alltag ein. Ein Wohnzimmer mitten auf der Straße\, Nachbarschaft\, Gemeinschaftsgärten. Stadtteilläden\, Repair Cafés und Mieter*inneninitiativen entstehen in den Nischen der Städte – unabhängig\, selbstbestimmt und gemeinsam. \n 
URL:https://mitstadtzentrale.de/kalender/wohnraum-und-freiraeume-in-koeln-filmabend-das-gegenteil-von-grau
LOCATION:Petershof\, Lövenicher Weg 11\, 50933 Köln\, Lövenicher Weg 11\, Köln\, 50933\, Deutschland
CATEGORIES:Filmabend,Köln,öffentlich extern - auf Spendenbasis
END:VEVENT
BEGIN:VEVENT
DTSTART;TZID=Europe/Berlin:20240823T180000
DTEND;TZID=Europe/Berlin:20240823T210000
DTSTAMP:20260422T160759
CREATED:20240703T141811Z
LAST-MODIFIED:20240703T141811Z
UID:10000150-1724436000-1724446800@mitstadtzentrale.de
SUMMARY:Info-Veranstaltung des Petershof in Köln Müngersdorf
DESCRIPTION:Am 23. August um 18 Uhr lädt der Petershof in Köln Müngersdorf beim freitäglichen offenen Hof zu einer Info-Veranstaltung ein. Hier erfährst du im Detail\, was grade der Planungs- und Finanzierungsstand ist\, kannst uns all deine Fragen stellen und dir gemeinsam mit den anderen Interessierten einen Eindruck vom Petershof machen. \nBei den Infoveranstaltungen gibt es einen Überblick über das Projekt und Infos rund um das Thema “Solidargenoss*in werden”.
URL:https://mitstadtzentrale.de/kalender/info-veranstaltung-des-petershof-in-koeln-muengersdorf
LOCATION:Petershof\, Lövenicher Weg 11\, 50933 Köln\, Lövenicher Weg 11\, Köln\, 50933\, Deutschland
CATEGORIES:Köln,öffentlich extern - gemeinnützig
END:VEVENT
BEGIN:VEVENT
DTSTART;VALUE=DATE:20240727
DTEND;VALUE=DATE:20240805
DTSTAMP:20260422T160759
CREATED:20240703T134914Z
LAST-MODIFIED:20240703T144611Z
UID:10000147-1722049200-1722740399@mitstadtzentrale.de
SUMMARY:Mit anpacken bei der Bauwoche auf dem Petershof in Köln Müngersdorf
DESCRIPTION:Vom 27. Juli bis 3. August wird auf dem Petershof bei der Baugemeinschaft Machbarschaft Köln eG  wieder gemeinsam gebaut. \nLasst Euch diese tolle Möglichkeit zu werkeln\, Neues zu lernen und gemeinsam anzupacken nicht entgehen! Wie immer sind keine Vorkenntnisse nötig\, alles wird durch unsere Hausmeisterei-AG angeleitet. Anmeldung per Mail an bautag@petershof.org. \n 
URL:https://mitstadtzentrale.de/kalender/mit-anpacken-bei-den-bautagen-des-petershof-in-koeln-muengersdorf
LOCATION:Petershof\, Lövenicher Weg 11\, 50933 Köln\, Lövenicher Weg 11\, Köln\, 50933\, Deutschland
CATEGORIES:Köln,öffentlich extern - gemeinnützig
END:VEVENT
BEGIN:VEVENT
DTSTART;TZID=Europe/Berlin:20240712T180000
DTEND;TZID=Europe/Berlin:20240712T210000
DTSTAMP:20260422T160759
CREATED:20240703T140916Z
LAST-MODIFIED:20240703T140916Z
UID:10000148-1720807200-1720818000@mitstadtzentrale.de
SUMMARY:Info-Veranstaltung zum Petershof in Köln Müngersdorf
DESCRIPTION:Am 12. Juli um 18 Uhr lädt der Petershof in Köln Müngersdorf beim freitäglichen offenen Hof zu einer Info-Veranstaltung ein. Hier erfährst du im Detail\, was grade der Planungs- und Finanzierungsstand ist\, kannst uns all deine Fragen stellen und dir gemeinsam mit den anderen Interessierten einen Eindruck vom Petershof machen. \nBei den Infoveranstaltungen gibt es einen Überblick über das Projekt und Infos rund um das Thema “Solidargenoss*in werden”.
URL:https://mitstadtzentrale.de/kalender/info-veranstaltung-zum-petershof-in-koeln-muengersdorf
LOCATION:Petershof\, Lövenicher Weg 11\, 50933 Köln\, Lövenicher Weg 11\, Köln\, 50933\, Deutschland
CATEGORIES:Köln,öffentlich extern - gemeinnützig
END:VEVENT
BEGIN:VEVENT
DTSTART;TZID=Europe/Berlin:20230827T110000
DTEND;TZID=Europe/Berlin:20230827T170000
DTSTAMP:20260422T160759
CREATED:20230712T165025Z
LAST-MODIFIED:20230712T165025Z
UID:10000062-1693134000-1693155600@mitstadtzentrale.de
SUMMARY:Petershof: Hoffest und Flohmarkt
DESCRIPTION:Vor knapp zwei Jahren hat der Petershof das Konzept im Konzeptvergabeverfahren eingereicht. Höchste Zeit mal wieder mit euch – und all den tollen Initiativen\, die den Petershof schon jetzt nutzen – zu feiern! Der Flohmarkt im letzten Jahr war so gut\, dass dieser nochmal wiederholt wird. Ab jetzt könnt ihr euch einen Platz für euren Stand reservieren. Schickt dazu eine Mail an flohmarkt@petershof.org. Die Standgebühr ist auf Spendenbasis\, Kinderstände zahlen nix und der Petershof freuen sich wenn ihr keine Profis seid. \nEin solches Fest macht viel Spaß und viel Arbeit. Eure helfenden Hände wären daher sehr gerne gesehen. Meldet euch ebenfalls unter der Mailadresse\, wenn ihr auf unseren Support-Verteiler möchtet für eine Schicht am Kuchenstand\, zum Flyer verteilen oder ähnliches.
URL:https://mitstadtzentrale.de/kalender/petershof-hoffest-und-flohmarkt
LOCATION:Petershof\, Lövenicher Weg 9-11\, Köln\, 50933
END:VEVENT
BEGIN:VEVENT
DTSTART;TZID=Europe/Berlin:20230728T190000
DTEND;TZID=Europe/Berlin:20230728T210000
DTSTAMP:20260422T160759
CREATED:20230712T164753Z
LAST-MODIFIED:20230712T164753Z
UID:10000061-1690570800-1690578000@mitstadtzentrale.de
SUMMARY:Lesung: Der kurze Moment für die Ewigkeit
DESCRIPTION:Der Petershof freut sich immer wieder über Anfragen und Veranstaltungsideen aus der direkten Nachbar*innenschaft. Am 28. Juli ab 19 Uhr hören wir die Lebensgeschichte von Mara Löhr. Sie hat ein autobiografisches Buch über ihr Leben kurz vor ihrer Hirnblutung\, sowie die Zeit danach geschrieben. Gemeinsam mit ihrer Mutter liest die Autorin aus dem Buch\, anschließend ist Zeit für ein Gespräch. \nEintritt gegen Spende. Der Veranstaltungsraum ist barrierefrei.
URL:https://mitstadtzentrale.de/kalender/lesung-der-kurze-moment-fuer-die-ewigkeit
LOCATION:Petershof\, Lövenicher Weg 9-11\, Köln\, 50933
END:VEVENT
BEGIN:VEVENT
DTSTART;TZID=Europe/Berlin:20230714T173000
DTEND;TZID=Europe/Berlin:20230714T220000
DTSTAMP:20260422T160759
CREATED:20230712T164554Z
LAST-MODIFIED:20230712T164554Z
UID:10000060-1689355800-1689372000@mitstadtzentrale.de
SUMMARY:Offener Hof trifft auf Videokunst und Klangexperimente
DESCRIPTION:Der Petershof freut sich sehr auf auf Spheres – ein Kunsterlebnis der besonderen Art mit Ramin Aryaie\, Heinrich Lenz und David Bilek. \nRamin Aryaie (keine Pronomen/er) arbeitet transmedial zwischen Film\, Sound und Bewegung. Die Ergebnisse dieser Recherchen sind lange\, experimentelle Videoarbeiten. Im Petershof gibt Ramin einen Einblick in diese Arbeiten in einem neuem Format\, der Live Cinema Performance. Über die letzten Jahre entstanden\, vermischen die Filme performative Kunst mit Drohnenaufnahmen und organischen Filmsequenzen auf eigene Art. \nAnschließend erschaffen Heinrich und David zu einer Klangreise der besonderen Art. David Bilek aus Weimar spielt elektronische Echtzeitkompositionen aus Soundscapes\, akustische Explorationen verschiedener Räume und Klänge. Heinrich Lenz aus Köln performt ein Synthesizer- und laptopbasiertes elektronisches Liveset\, welches harmonische Klangtexturen mit den Methoden und der Ästhetik von Musique Concrète verbindet. Musik zum zuhören\, zum entspannen\, zum nachdenken und zum wegträumen – hinlegen erlaubt! \nLive Cinema: ab 17.30 Uhr\nKonzert: 19:30-22 Uhr\nEinlass jederzeit möglich \nSpendenempfehlung: 7€ \nDer Veranstaltungsraum ist leider nicht barrierefrei.
URL:https://mitstadtzentrale.de/kalender/offener-hof-trifft-auf-videokunst-und-klangexperimente
LOCATION:Petershof\, Lövenicher Weg 9-11\, Köln\, 50933
END:VEVENT
BEGIN:VEVENT
DTSTART;TZID=Europe/Berlin:20230527T150000
DTEND;TZID=Europe/Berlin:20230527T190000
DTSTAMP:20260422T160759
CREATED:20230527T125220Z
LAST-MODIFIED:20230527T125220Z
UID:10000042-1685199600-1685214000@mitstadtzentrale.de
SUMMARY:Frühlingsfest am 27. Mai - Gebärdensprache im Petershof
DESCRIPTION:Der gemeinnützige Verein Shahrzad e.V. setzt sich für die Belange von gehörlosen und schwerhörigen Geflüchteten ein. Der Petershof kooperiert seit einiger Zeit mit dem Verein und möchten nun zusammen zum Frühlingsfest einladen: \nEs gibt eine Ideenschmiede für Nutzungsmöglichkeiten im Petershof für Gebärdende und Nicht-Gebärdende\, einen Mini-Kurs für Gebärdensprache\, Kaffee\, Kuchen\, Gegrilltes und Spiele. \nDas Fest findet zwischen 15 und 19 Uhr statt!
URL:https://mitstadtzentrale.de/kalender/fruehlingsfest-am-27-mai-gebaerdensprache-im-petershof
LOCATION:Petershof\, Lövenicher Weg 9-11\, Köln\, 50933
END:VEVENT
END:VCALENDAR