BEGIN:VCALENDAR
VERSION:2.0
PRODID:-//MitStadtZentrale - Netzwerk- und Beratungsstelle für gemeinschaftliche Wohnprojekte-Plus - ECPv6.15.20//NONSGML v1.0//EN
CALSCALE:GREGORIAN
METHOD:PUBLISH
X-WR-CALNAME:MitStadtZentrale - Netzwerk- und Beratungsstelle für gemeinschaftliche Wohnprojekte-Plus
X-ORIGINAL-URL:https://mitstadtzentrale.de
X-WR-CALDESC:Veranstaltungen für MitStadtZentrale - Netzwerk- und Beratungsstelle für gemeinschaftliche Wohnprojekte-Plus
REFRESH-INTERVAL;VALUE=DURATION:PT1H
X-Robots-Tag:noindex
X-PUBLISHED-TTL:PT1H
BEGIN:VTIMEZONE
TZID:Europe/Berlin
BEGIN:DAYLIGHT
TZOFFSETFROM:+0100
TZOFFSETTO:+0200
TZNAME:CEST
DTSTART:20230326T010000
END:DAYLIGHT
BEGIN:STANDARD
TZOFFSETFROM:+0200
TZOFFSETTO:+0100
TZNAME:CET
DTSTART:20231029T010000
END:STANDARD
BEGIN:DAYLIGHT
TZOFFSETFROM:+0100
TZOFFSETTO:+0200
TZNAME:CEST
DTSTART:20240331T010000
END:DAYLIGHT
BEGIN:STANDARD
TZOFFSETFROM:+0200
TZOFFSETTO:+0100
TZNAME:CET
DTSTART:20241027T010000
END:STANDARD
BEGIN:DAYLIGHT
TZOFFSETFROM:+0100
TZOFFSETTO:+0200
TZNAME:CEST
DTSTART:20250330T010000
END:DAYLIGHT
BEGIN:STANDARD
TZOFFSETFROM:+0200
TZOFFSETTO:+0100
TZNAME:CET
DTSTART:20251026T010000
END:STANDARD
END:VTIMEZONE
BEGIN:VEVENT
DTSTART;TZID=Europe/Berlin:20240216T150000
DTEND;TZID=Europe/Berlin:20240216T163000
DTSTAMP:20260422T160126
CREATED:20240212T184218Z
LAST-MODIFIED:20240212T184218Z
UID:10000120-1708095600-1708101000@mitstadtzentrale.de
SUMMARY:Online-Workshop: Gemeinschaftliches\, sozial-ökologisches Wohnen & Citizen Science
DESCRIPTION:NELA lädt euch\, zusammen mit der Leuphana Universität Lüneburg\, herzlich zu unserem Onlineworkshop per Zoom am Freitag\, dem 16.02.2024 von 15:00 – 16:30 Uhr\, ein. \nÜberzeugt davon\, dass die sozial-ökologische Wende nur in der Gemeinschaft gelingen kann\, glauben wir daran\, dass in lokalen Gemeinschaften neue\, nachhaltige Lebenspraktiken institutionalisiert und Utopien gelebt werden können. In Zusammenarbeit mit der Leuphana Universität Lüneburg hat NELA mehrere Citizen Science Projekte begleitet\, die zu folgender Frage geforscht haben: „Wie kann solidarisches Zusammenleben in Gemeinschaft funktionieren?“ Unsere gewonnenen Erkenntnisse möchten wir „in-a-nutshell“ mit Euch auf dem Onlineworkshop teilen. Ihr werdet einen Einblick in die Projektarbeit und die Forschungsergebnisse bekommen. Außerdem möchten wir mit euch gemeinsam über den Mehrwert eines Citizen Science Ansatzes für die Praxis gemeinschaftlichen Wohnens diskutieren. \nWir laden euch herzlich ein\, euch in diesem Rahmen mit uns auszutauschen\, oder einfach nur zu lauschen und hoffentlich ein paar neue Dinge zu lernen\, mitzunehmen und weiterzutragen. \nAnmeldung: Interesse? Dann schickt eine kurze Mail an Niklas Klemm und ihr bekommt Zugangsdaten: klemm@nexteconomylab.de Die Teilnahme des Workshops ist kostenlos.
URL:https://mitstadtzentrale.de/kalender/online-workshop-gemeinschaftliches-sozial-oekologisches-wohnen-citizen-science
LOCATION:online
END:VEVENT
END:VCALENDAR