BEGIN:VCALENDAR
VERSION:2.0
PRODID:-//MitStadtZentrale - Netzwerk- und Beratungsstelle für gemeinschaftliche Wohnprojekte-Plus - ECPv6.15.20//NONSGML v1.0//EN
CALSCALE:GREGORIAN
METHOD:PUBLISH
X-WR-CALNAME:MitStadtZentrale - Netzwerk- und Beratungsstelle für gemeinschaftliche Wohnprojekte-Plus
X-ORIGINAL-URL:https://mitstadtzentrale.de
X-WR-CALDESC:Veranstaltungen für MitStadtZentrale - Netzwerk- und Beratungsstelle für gemeinschaftliche Wohnprojekte-Plus
REFRESH-INTERVAL;VALUE=DURATION:PT1H
X-Robots-Tag:noindex
X-PUBLISHED-TTL:PT1H
BEGIN:VTIMEZONE
TZID:Europe/Berlin
BEGIN:DAYLIGHT
TZOFFSETFROM:+0100
TZOFFSETTO:+0200
TZNAME:CEST
DTSTART:20220327T010000
END:DAYLIGHT
BEGIN:STANDARD
TZOFFSETFROM:+0200
TZOFFSETTO:+0100
TZNAME:CET
DTSTART:20221030T010000
END:STANDARD
BEGIN:DAYLIGHT
TZOFFSETFROM:+0100
TZOFFSETTO:+0200
TZNAME:CEST
DTSTART:20230326T010000
END:DAYLIGHT
BEGIN:STANDARD
TZOFFSETFROM:+0200
TZOFFSETTO:+0100
TZNAME:CET
DTSTART:20231029T010000
END:STANDARD
BEGIN:DAYLIGHT
TZOFFSETFROM:+0100
TZOFFSETTO:+0200
TZNAME:CEST
DTSTART:20240331T010000
END:DAYLIGHT
BEGIN:STANDARD
TZOFFSETFROM:+0200
TZOFFSETTO:+0100
TZNAME:CET
DTSTART:20241027T010000
END:STANDARD
BEGIN:DAYLIGHT
TZOFFSETFROM:+0100
TZOFFSETTO:+0200
TZNAME:CEST
DTSTART:20250330T010000
END:DAYLIGHT
BEGIN:STANDARD
TZOFFSETFROM:+0200
TZOFFSETTO:+0100
TZNAME:CET
DTSTART:20251026T010000
END:STANDARD
END:VTIMEZONE
BEGIN:VEVENT
DTSTART;TZID=Europe/Berlin:20240409T180000
DTEND;TZID=Europe/Berlin:20240409T200000
DTSTAMP:20260422T121441
CREATED:20240316T152107Z
LAST-MODIFIED:20240320T135305Z
UID:10000124-1712685600-1712692800@mitstadtzentrale.de
SUMMARY:Ökologisch und bezahlbar Wohnen dank Holzbau
DESCRIPTION:Viele Menschen teilen den Wunsch nach bezahlbarem und ökologischem Wohnraum mit Begegnungsorten. Inspirierende Beispiele von GLS Kund*innen zeigen\, dass dies bereits erfolgreich umgesetzt wurde. Gleichzeitig stehen Wohnprojektgruppen vor großen Herausforderungen aufgrund hoher Baukosten\, gestiegener Zinsen und der Komplexität von Bauvorhaben. \nIn der Veranstaltung wird die Frage untersucht\, ob gut geplanter Holzbau die Realisierung von Wohnbauvorhaben unter den derzeitigen Rahmenbedingungen ermöglichen kann. Dazu werden eine Planerin\, eine Holzbauerin und Mitglieder eines Wohnprojektes ihre Perspektiven darlegen. \nReferent*innen: Anne Kettenburg – Werk.um: Planung eines Holzbaus Sven Kirchner – Geschäftsführer FH Finnholz: Vorteile eines Holzbaus im Vergleich zur konventionellen Bauweise und planungssichere Umsetzung André Meyer – Abteilungsleiter Nachhaltige Immobilien: Holzbau aus Sicht der GLS Bank und Gründe für die Finanzierung von Holzbauten Rut Gollan – Vorständin der Wohnbaugenossenschaft Wagnis eG präsentiert spannende\, bereits realisierte und geplante Projekte. \nHier geht’s zur Anmeldung.
URL:https://mitstadtzentrale.de/kalender/oekologisch-und-bezahlbar-wohnen-dank-holzbau
LOCATION:Digital!
END:VEVENT
BEGIN:VEVENT
DTSTART;TZID=Europe/Berlin:20230713T180000
DTEND;TZID=Europe/Berlin:20230713T190000
DTSTAMP:20260422T121441
CREATED:20230607T171353Z
LAST-MODIFIED:20230607T171353Z
UID:10000047-1689271200-1689274800@mitstadtzentrale.de
SUMMARY:PrymPark: Virtuelles Kennenlernen
DESCRIPTION:Der PrymPark möchte allen Interessierten eine virtuelle Möglichkeit zum Kennenlernen bieten. \nDas Zoom Meeting richtet sich an interessierte Familien mit Kindern\, Alleinerziehende und Patchwork-Familien\, Paare mit und ohne Kinder\, alleinstehende Menschen\, junge und alte Menschen….. alle sind herzlich willkommen! Alle Fragen zum Thema Wohnprojekt „PrymPark in Düren“ werden beantwortet. \nDamit das Team vom PrymPark den Einladungslink zuschicken kann\, ist es erforderlich\, dass ihr per Mail oder SMS Kontakt zum PrymPark aufnehmt. \nKontakt unter wir-mittendrin@prympark.de oder  0170/4452266
URL:https://mitstadtzentrale.de/kalender/prympark-virtuelles-kennenlernen-2
LOCATION:Digital!
ORGANIZER;CN="PrymPark Quartiergesellschaft":MAILTO:info@prympark.de
END:VEVENT
END:VCALENDAR