BEGIN:VCALENDAR
VERSION:2.0
PRODID:-//MitStadtZentrale - Netzwerk- und Beratungsstelle für gemeinschaftliche Wohnprojekte-Plus - ECPv6.15.20//NONSGML v1.0//EN
CALSCALE:GREGORIAN
METHOD:PUBLISH
X-ORIGINAL-URL:https://mitstadtzentrale.de
X-WR-CALDESC:Veranstaltungen für MitStadtZentrale - Netzwerk- und Beratungsstelle für gemeinschaftliche Wohnprojekte-Plus
REFRESH-INTERVAL;VALUE=DURATION:PT1H
X-Robots-Tag:noindex
X-PUBLISHED-TTL:PT1H
BEGIN:VTIMEZONE
TZID:Europe/Berlin
BEGIN:DAYLIGHT
TZOFFSETFROM:+0100
TZOFFSETTO:+0200
TZNAME:CEST
DTSTART:20210328T010000
END:DAYLIGHT
BEGIN:STANDARD
TZOFFSETFROM:+0200
TZOFFSETTO:+0100
TZNAME:CET
DTSTART:20211031T010000
END:STANDARD
BEGIN:DAYLIGHT
TZOFFSETFROM:+0100
TZOFFSETTO:+0200
TZNAME:CEST
DTSTART:20220327T010000
END:DAYLIGHT
BEGIN:STANDARD
TZOFFSETFROM:+0200
TZOFFSETTO:+0100
TZNAME:CET
DTSTART:20221030T010000
END:STANDARD
BEGIN:DAYLIGHT
TZOFFSETFROM:+0100
TZOFFSETTO:+0200
TZNAME:CEST
DTSTART:20230326T010000
END:DAYLIGHT
BEGIN:STANDARD
TZOFFSETFROM:+0200
TZOFFSETTO:+0100
TZNAME:CET
DTSTART:20231029T010000
END:STANDARD
BEGIN:DAYLIGHT
TZOFFSETFROM:+0100
TZOFFSETTO:+0200
TZNAME:CEST
DTSTART:20240331T010000
END:DAYLIGHT
BEGIN:STANDARD
TZOFFSETFROM:+0200
TZOFFSETTO:+0100
TZNAME:CET
DTSTART:20241027T010000
END:STANDARD
BEGIN:DAYLIGHT
TZOFFSETFROM:+0100
TZOFFSETTO:+0200
TZNAME:CEST
DTSTART:20250330T010000
END:DAYLIGHT
BEGIN:STANDARD
TZOFFSETFROM:+0200
TZOFFSETTO:+0100
TZNAME:CET
DTSTART:20251026T010000
END:STANDARD
END:VTIMEZONE
BEGIN:VEVENT
DTSTART;TZID=Europe/Berlin:20240920T123000
DTEND;TZID=Europe/Berlin:20240920T190000
DTSTAMP:20260422T123818
CREATED:20240730T120700Z
LAST-MODIFIED:20240905T160828Z
UID:10000158-1726835400-1726858800@mitstadtzentrale.de
SUMMARY:fällt leider aus: trias-Workshop: 45 x PRAKTISCH
DESCRIPTION:Diese Veranstaltung fällt leider aus! \nAm 20. September 2024  Rohrmeisterei Schwerte:  45 x PRAKTISCH\, kurz: 45 x P! \n 
URL:https://mitstadtzentrale.de/kalender/trias-workshop-45-x-praktisch-projekt-wissen-teilen-und-nutzen
LOCATION:Rohrmeisterei Schwerte\, Ruhrstr. 20\, Schwerte\, 58239\, Deutschland
CATEGORIES:öffentlich extern - kostenpflichtig,Workshop
END:VEVENT
BEGIN:VEVENT
DTSTART;VALUE=DATE:20221115
DTEND;VALUE=DATE:20221117
DTSTAMP:20260422T123818
CREATED:20221014T165031Z
LAST-MODIFIED:20221014T165050Z
UID:10000007-1668481200-1668567599@mitstadtzentrale.de
SUMMARY:43 x P – PROJEKT WISSEN NUTZEN
DESCRIPTION:
URL:https://mitstadtzentrale.de/kalender/43-x-p-projekt-wissen-nutzen
LOCATION:Rohrmeisterei Schwerte\, Ruhrstr. 20\, Schwerte\, 58239\, Deutschland
CATEGORIES:öffentlich extern - kostenpflichtig
END:VEVENT
END:VCALENDAR