BEGIN:VCALENDAR
VERSION:2.0
PRODID:-//MitStadtZentrale - Netzwerk- und Beratungsstelle für gemeinschaftliche Wohnprojekte-Plus - ECPv6.15.20//NONSGML v1.0//EN
CALSCALE:GREGORIAN
METHOD:PUBLISH
X-ORIGINAL-URL:https://mitstadtzentrale.de
X-WR-CALDESC:Veranstaltungen für MitStadtZentrale - Netzwerk- und Beratungsstelle für gemeinschaftliche Wohnprojekte-Plus
REFRESH-INTERVAL;VALUE=DURATION:PT1H
X-Robots-Tag:noindex
X-PUBLISHED-TTL:PT1H
BEGIN:VTIMEZONE
TZID:Europe/Berlin
BEGIN:DAYLIGHT
TZOFFSETFROM:+0100
TZOFFSETTO:+0200
TZNAME:CEST
DTSTART:20220327T010000
END:DAYLIGHT
BEGIN:STANDARD
TZOFFSETFROM:+0200
TZOFFSETTO:+0100
TZNAME:CET
DTSTART:20221030T010000
END:STANDARD
BEGIN:DAYLIGHT
TZOFFSETFROM:+0100
TZOFFSETTO:+0200
TZNAME:CEST
DTSTART:20230326T010000
END:DAYLIGHT
BEGIN:STANDARD
TZOFFSETFROM:+0200
TZOFFSETTO:+0100
TZNAME:CET
DTSTART:20231029T010000
END:STANDARD
BEGIN:DAYLIGHT
TZOFFSETFROM:+0100
TZOFFSETTO:+0200
TZNAME:CEST
DTSTART:20240331T010000
END:DAYLIGHT
BEGIN:STANDARD
TZOFFSETFROM:+0200
TZOFFSETTO:+0100
TZNAME:CET
DTSTART:20241027T010000
END:STANDARD
BEGIN:DAYLIGHT
TZOFFSETFROM:+0100
TZOFFSETTO:+0200
TZNAME:CEST
DTSTART:20250330T010000
END:DAYLIGHT
BEGIN:STANDARD
TZOFFSETFROM:+0200
TZOFFSETTO:+0100
TZNAME:CET
DTSTART:20251026T010000
END:STANDARD
BEGIN:DAYLIGHT
TZOFFSETFROM:+0100
TZOFFSETTO:+0200
TZNAME:CEST
DTSTART:20260329T010000
END:DAYLIGHT
BEGIN:STANDARD
TZOFFSETFROM:+0200
TZOFFSETTO:+0100
TZNAME:CET
DTSTART:20261025T010000
END:STANDARD
END:VTIMEZONE
BEGIN:VEVENT
DTSTART;VALUE=DATE:20250906
DTEND;VALUE=DATE:20250908
DTSTAMP:20260423T104142
CREATED:20250507T154428Z
LAST-MODIFIED:20250507T154428Z
UID:10000234-1757127600-1757213999@mitstadtzentrale.de
SUMMARY:22. Wohnprojektetag NRW 2025: Lernen und Vernetzen im Land der Wohnprojekte
DESCRIPTION:Zusammen mit der WohnBund-Beratung NRW veranstalte die Stiftung trias seit 2003 jährlich den Wohnprojektetag NRW im Wissenschaftspark Gelsenkirchen. Ziel ist es\, den Austausch und die Vernetzung zwischen bestehenden Wohnprojekten und Initiativen zu fördern. Wohnprojekt-Interessierte finden Ansprechpartner*innen zu wichtigen Fragen der Initiierung und Gründung eines Projektes. Außerdem ist er eine Info- und Kontaktbörse für neue Projekte. Beim Wohnprojektetag NRW werden wechselnde Themenschwerpunkte aufgegriffen. \nEine Nachlese zum 21. Wohnprojektetag NRW 2024 gibt es hier. \nDer 22. Wohnprojektetag NRW 2025 findet am 06. September 2025 in Gelsenkirchen statt. \nDer Wohnprojektetag NRW 2025 findet dieses Jahr unter dem Titel “Lernen und Vernetzen im Land der Wohnprojekte” statt. Vormittags stellen sich Projekte aus ganz NRW vor. Am Nachmittag bietet der Markt der Möglichkeiten Gelegenheit zum Kennenlernen\, Vernetzen und Austauschen. In einem Open Space-Format können erstmalig eigene Themen eingebracht und mit anderen Teilnehmenden diskutiert werden. Die Veranstaltung richtet sich Interessierte\, an Wohnprojekte sowie an Fachleute aus Kommune\, Beratung\, Architektur\, Bau oder anderen Organisationen. \nDer Wohnprojektetag NRW wird unterstützt von der GLS Bank. \nEin Programm und eine Anmeldemöglichkeit für Besucher*innen und Austellende gibt es ab Mai 2025 unter www.wohnprojektetag.nrw
URL:https://mitstadtzentrale.de/kalender/22-wohnprojektetag-nrw-2025-lernen-und-vernetzen-im-land-der-wohnprojekte
LOCATION:Wissenschaftspark Gelsenkirchen\, Munscheidstr. 14\, Gelsenkirchen\, 44886
CATEGORIES:Infotag
END:VEVENT
BEGIN:VEVENT
DTSTART;TZID=Europe/Berlin:20240906T100000
DTEND;TZID=Europe/Berlin:20240906T160000
DTSTAMP:20260423T104142
CREATED:20240626T130048Z
LAST-MODIFIED:20240730T115236Z
UID:10000146-1725616800-1725638400@mitstadtzentrale.de
SUMMARY:Wohnprojekte-Tag NRW 2024 | Anders als Chance - Gemeinschaftlich Bauen und Wohnen als Zukunftsmodell in Krisenzeiten
DESCRIPTION:Anders als Chance – Gemeinschaftlich Bauen und Wohnen als Zukunftsmodell in Krisenzeiten\nUnter dem Titel Anders als Chance – Gemeinschaftliches Bauen und Wohnen als Zukunftsmodell in Krisenzeiten will sich der Wohnprojektetag NRW in diesem Jahr mit dem Status quo beschäftigen: Unter welchen Rahmenbedingungen agieren Wohnprojekte momentan? Wie gehen Initiativen mit den Kostensteigerungen um? Welche Möglichkeiten gibt es im Bereich der Finanzierung und von Seiten der Architektur\, mit der Problematik umzugehen? Dabei zeigt sich\, dass die Krise der klassischen Bauträger durchaus auch Chancen für alternative Projekte bietet. \nweitere Infos\, Kosten und Anmeldung unter https://www.wohnprojektetag.nrw/21-wohnprojektetag-2024/ \n 
URL:https://mitstadtzentrale.de/kalender/wohnprojekte-tag-nrw-2024
LOCATION:Wissenschaftspark Gelsenkirchen\, Munscheidstr. 14\, Gelsenkirchen\, 44886
CATEGORIES:Fachtagung,öffentlich extern - kostenpflichtig
ORGANIZER;CN="WohnBund-Beratung NRW GmbH":MAILTO:2023@wohnprojektetag.nrw
END:VEVENT
BEGIN:VEVENT
DTSTART;TZID=Europe/Berlin:20230908T093000
DTEND;TZID=Europe/Berlin:20230908T193000
DTSTAMP:20260423T104142
CREATED:20230629T143324Z
LAST-MODIFIED:20230728T113540Z
UID:10000053-1694165400-1694201400@mitstadtzentrale.de
SUMMARY:Wohnprojekte-Tag NRW
DESCRIPTION:Blick zurück nach vorn: 20 Jahre Wohnprojektetag NRW \nDer Wohnprojektetag NRW feiert in diesem Jahr sein 20. Jubiläum! \nIm Jahr 2003 wurde das erste Mal in Nordrhein-Westfalen zu einem Wohnprojektetag eingeladen\, damals unter dem Motto „Neue Partnerschaften – eine Lobby für Wohnprojekte “. Bereits zu diesem Zeitpunkt gab es viele Wohnprojekte in NRW. Mehr noch als heute waren es allerdings Pionierprojekte\, die vor zahlreichen Herausforderungen standen und wenig vernetzt waren. Die Entwicklung steckte noch in den Kinderschuhen: Das gemeinschaftliche Wohnen war insgesamt relativ unbekannt\, bei Bürger*innen wie auch bei Kommunen oder Wohnungsunternehmen. \nDie Hürden für die Akquisition von Grundstücken\, aber auch für die Entwicklung der Wohnprojekte waren deutlich höher als heute. Es gab wenig Erfahrungen mit der rechtlichen und finanziellen Realisierung von Wohnprojekten. \n\n\n\n\n\n\n\n\n\n\nHeute existiert eine vielfältige Szene an politischen und zivilgesellschaftlichen Akteur*innen\, an Wissen in der öffentlichen Verwaltung und an zielgenauen Fördermitteln und Banken\, die die Besonderheiten einer gemeinschaftlichen Finanzierung kennen. \nAnlässlich des Jubiläums gibt es einen Blick zurück nach vorn auf „20 Jahre Wohn- projekte NRW“: Am Vormittag wird dazu gemeinsam mit Akteur*innen\, die schon damals „am Thema dran waren“\, nachgezeichnet\, wie sich die Motivationen\, Rahmenbedingungen und Herausforderungen seit 2003 entwickelt haben. \nAm Nachmittag stellen sich zukunftsweisende Wohnprojekte vor und geben Impulse\nauf die Fragen: Wie kann\, wie soll sich das gemeinschaftliche Wohnen in NRW entwickeln? Welche Antworten können Wohnprojekte auf die Fragen der Zukunft geben? Und welche Gelingensbedingungen brauche sie dafür? \nZum Abschluss des Tages wird zu einem „Come-Together“ eingeladen\, um gemeinsam zu feiern. \n\n\n\n\n\n\n\n\nFlyer und Programm zum Wohnprojektetag NRW\n\n\n\n\n\n\n\n 
URL:https://mitstadtzentrale.de/kalender/wohnprojekte-tag-nrw
LOCATION:Wissenschaftspark Gelsenkirchen\, Munscheidstr. 14\, Gelsenkirchen\, 44886
CATEGORIES:öffentlich extern - kostenpflichtig
ORGANIZER;CN="WohnBund-Beratung NRW GmbH":MAILTO:2023@wohnprojektetag.nrw
END:VEVENT
END:VCALENDAR